Package: nipalsMCIA Version: 1.4.2 Command: /Library/Frameworks/R.framework/Resources/bin/R CMD INSTALL nipalsMCIA StartedAt: 2025-01-30 17:10:46 -0500 (Thu, 30 Jan 2025) EndedAt: 2025-01-30 17:11:15 -0500 (Thu, 30 Jan 2025) EllapsedTime: 29.3 seconds RetCode: 0 Status: OK