Package: nipalsMCIA Version: 1.4.2 Command: /Library/Frameworks/R.framework/Resources/bin/R CMD build --keep-empty-dirs --no-resave-data nipalsMCIA StartedAt: 2025-01-31 04:37:00 -0500 (Fri, 31 Jan 2025) EndedAt: 2025-01-31 04:41:22 -0500 (Fri, 31 Jan 2025) EllapsedTime: 261.7 seconds RetCode: 0 Status: OK PackageFile: nipalsMCIA_1.4.2.tar.gz PackageFileSize: 3.785 MiB