Package: netprioR Version: 1.32.0 Command: F:\biocbuild\bbs-3.20-bioc\R\bin\R.exe CMD INSTALL netprioR StartedAt: 2025-01-30 15:30:43 -0500 (Thu, 30 Jan 2025) EndedAt: 2025-01-30 15:31:10 -0500 (Thu, 30 Jan 2025) EllapsedTime: 27.1 seconds RetCode: 0 Status: OK