Package: netprioR Version: 1.32.0 Command: rm -rf netprioR.buildbin-libdir && mkdir netprioR.buildbin-libdir && F:\biocbuild\bbs-3.20-bioc\R\bin\R.exe CMD INSTALL --build --library=netprioR.buildbin-libdir netprioR_1.32.0.tar.gz StartedAt: 2025-01-31 09:10:42 -0500 (Fri, 31 Jan 2025) EndedAt: 2025-01-31 09:11:09 -0500 (Fri, 31 Jan 2025) EllapsedTime: 27.3 seconds RetCode: 0 Status: OK PackageFile: netprioR_1.32.0.zip PackageFileSize: 599.1 KiB