Package: netprioR Version: 1.32.0 Command: rm -rf netprioR.buildbin-libdir && mkdir netprioR.buildbin-libdir && /Users/biocbuild/BBS/utils/build-universal.sh netprioR_1.32.0.tar.gz /Library/Frameworks/R.framework/Resources/bin/R netprioR.buildbin-libdir StartedAt: 2025-02-01 16:01:00 -0500 (Sat, 01 Feb 2025) EndedAt: 2025-02-01 16:01:10 -0500 (Sat, 01 Feb 2025) EllapsedTime: 10.1 seconds RetCode: 0 Status: OK PackageFile: netprioR_1.32.0.tgz PackageFileSize: 725.4 KiB