Package: nethet Version: 1.38.0 Command: /Library/Frameworks/R.framework/Resources/bin/R CMD INSTALL nethet StartedAt: 2025-01-30 18:24:05 -0500 (Thu, 30 Jan 2025) EndedAt: 2025-01-30 18:24:21 -0500 (Thu, 30 Jan 2025) EllapsedTime: 16.1 seconds RetCode: 0 Status: OK