Package: netZooR Version: 1.10.0 Command: /home/biocbuild/R/R/bin/R CMD build --keep-empty-dirs --no-resave-data netZooR StartedAt: 2025-01-31 01:22:08 -0000 (Fri, 31 Jan 2025) EndedAt: 2025-01-31 01:24:04 -0000 (Fri, 31 Jan 2025) EllapsedTime: 115.2 seconds RetCode: 0 Status: OK PackageFile: netZooR_1.10.0.tar.gz PackageFileSize: 3.033 MiB