Package: netOmics Version: 1.12.0 Command: F:\biocbuild\bbs-3.20-bioc\R\bin\R.exe CMD INSTALL netOmics StartedAt: 2025-01-30 16:48:52 -0500 (Thu, 30 Jan 2025) EndedAt: 2025-01-30 16:49:20 -0500 (Thu, 30 Jan 2025) EllapsedTime: 27.9 seconds RetCode: 0 Status: OK