Package: nempi Version: 1.14.0 Command: F:\biocbuild\bbs-3.20-bioc\R\bin\R.exe CMD INSTALL nempi StartedAt: 2025-01-30 16:50:00 -0500 (Thu, 30 Jan 2025) EndedAt: 2025-01-30 16:50:22 -0500 (Thu, 30 Jan 2025) EllapsedTime: 21.4 seconds RetCode: 0 Status: OK