Package: nempi Version: 1.14.0 Command: chmod a+r nempi -R && F:\biocbuild\bbs-3.20-bioc\R\bin\R.exe CMD build --keep-empty-dirs --no-resave-data nempi StartedAt: 2025-01-30 20:33:23 -0500 (Thu, 30 Jan 2025) EndedAt: 2025-01-30 20:34:23 -0500 (Thu, 30 Jan 2025) EllapsedTime: 59.8 seconds RetCode: 0 Status: OK PackageFile: nempi_1.14.0.tar.gz PackageFileSize: 373.2 KiB