Package: nearBynding Version: 1.16.0 Command: /home/biocbuild/R/R/bin/R CMD build --keep-empty-dirs --no-resave-data nearBynding StartedAt: 2025-01-31 01:19:23 -0000 (Fri, 31 Jan 2025) EndedAt: 2025-01-31 01:20:56 -0000 (Fri, 31 Jan 2025) EllapsedTime: 93.0 seconds RetCode: 0 Status: OK PackageFile: nearBynding_1.16.0.tar.gz PackageFileSize: 3.332 MiB