Package: ncGTW Version: 1.20.0 Command: /Library/Frameworks/R.framework/Resources/bin/R CMD INSTALL ncGTW StartedAt: 2025-01-30 16:11:25 -0500 (Thu, 30 Jan 2025) EndedAt: 2025-01-30 16:13:40 -0500 (Thu, 30 Jan 2025) EllapsedTime: 134.8 seconds RetCode: 0 Status: OK