Package: ncGTW Version: 1.20.0 Command: /Library/Frameworks/R.framework/Resources/bin/R CMD check --install=check:ncGTW.install-out.txt --library=/Library/Frameworks/R.framework/Resources/library --no-vignettes --timings ncGTW_1.20.0.tar.gz StartedAt: 2025-01-31 07:13:40 -0500 (Fri, 31 Jan 2025) EndedAt: 2025-01-31 07:28:20 -0500 (Fri, 31 Jan 2025) EllapsedTime: 879.5 seconds RetCode: 0 Status: OK CheckDir: ncGTW.Rcheck Warnings: 0