Package: ncGTW Version: 1.20.0 Command: rm -rf ncGTW.buildbin-libdir && mkdir ncGTW.buildbin-libdir && /Users/biocbuild/BBS/utils/build-universal.sh ncGTW_1.20.0.tar.gz /Library/Frameworks/R.framework/Resources/bin/R ncGTW.buildbin-libdir StartedAt: 2025-01-31 13:16:54 -0500 (Fri, 31 Jan 2025) EndedAt: 2025-01-31 13:19:15 -0500 (Fri, 31 Jan 2025) EllapsedTime: 140.6 seconds RetCode: 0 Status: OK PackageFile: ncGTW_1.20.0.tgz PackageFileSize: 2.109 MiB