Package: ncGTW Version: 1.20.0 Command: /Library/Frameworks/R.framework/Resources/bin/R CMD build --keep-empty-dirs --no-resave-data ncGTW StartedAt: 2025-01-31 04:27:55 -0500 (Fri, 31 Jan 2025) EndedAt: 2025-01-31 04:31:50 -0500 (Fri, 31 Jan 2025) EllapsedTime: 235.5 seconds RetCode: 0 Status: OK PackageFile: ncGTW_1.20.0.tar.gz PackageFileSize: 2.304 MiB