Package: ncGTW Version: 1.20.0 Command: rm -rf ncGTW.buildbin-libdir && mkdir ncGTW.buildbin-libdir && /Users/biocbuild/BBS/utils/build-universal.sh ncGTW_1.20.0.tar.gz /Library/Frameworks/R.framework/Resources/bin/R ncGTW.buildbin-libdir StartedAt: 2025-02-01 15:59:41 -0500 (Sat, 01 Feb 2025) EndedAt: 2025-02-01 16:00:58 -0500 (Sat, 01 Feb 2025) EllapsedTime: 77.1 seconds RetCode: 0 Status: OK PackageFile: ncGTW_1.20.0.tgz PackageFileSize: 2.107 MiB