Package: myvariant Version: 1.36.0 Command: rm -rf myvariant.buildbin-libdir && mkdir myvariant.buildbin-libdir && /Users/biocbuild/BBS/utils/build-universal.sh myvariant_1.36.0.tar.gz /Library/Frameworks/R.framework/Resources/bin/R myvariant.buildbin-libdir StartedAt: 2025-01-31 13:16:15 -0500 (Fri, 31 Jan 2025) EndedAt: 2025-01-31 13:17:45 -0500 (Fri, 31 Jan 2025) EllapsedTime: 89.5 seconds RetCode: 0 Status: OK PackageFile: myvariant_1.36.0.tgz PackageFileSize: 217 KiB