Package: muscat Version: 1.20.0 Command: /home/biocbuild/R/R/bin/R CMD INSTALL muscat StartedAt: 2025-01-30 21:00:07 -0000 (Thu, 30 Jan 2025) EndedAt: 2025-01-30 21:00:52 -0000 (Thu, 30 Jan 2025) EllapsedTime: 44.3 seconds RetCode: 0 Status: OK