Package: muscat Version: 1.20.0 Command: /home/biocbuild/R/R/bin/R CMD build --keep-empty-dirs --no-resave-data muscat StartedAt: 2025-01-31 01:15:31 -0000 (Fri, 31 Jan 2025) EndedAt: 2025-01-31 01:22:11 -0000 (Fri, 31 Jan 2025) EllapsedTime: 400.2 seconds RetCode: 0 Status: OK PackageFile: muscat_1.20.0.tar.gz PackageFileSize: 4.18 MiB