Package: muscat Version: 1.20.0 Command: /Library/Frameworks/R.framework/Resources/bin/R CMD INSTALL muscat StartedAt: 2025-01-30 16:32:48 -0500 (Thu, 30 Jan 2025) EndedAt: 2025-01-30 16:34:07 -0500 (Thu, 30 Jan 2025) EllapsedTime: 78.9 seconds RetCode: 0 Status: OK