Package: msmsTests Version: 1.44.0 Command: /home/biocbuild/R/R/bin/R CMD INSTALL msmsTests StartedAt: 2025-01-30 20:47:47 -0000 (Thu, 30 Jan 2025) EndedAt: 2025-01-30 20:48:32 -0000 (Thu, 30 Jan 2025) EllapsedTime: 44.3 seconds RetCode: 0 Status: OK