Package: msa Version: 1.38.0 Command: rm -rf msa.buildbin-libdir && mkdir msa.buildbin-libdir && F:\biocbuild\bbs-3.20-bioc\R\bin\R.exe CMD INSTALL --build --library=msa.buildbin-libdir msa_1.38.0.tar.gz StartedAt: 2025-01-31 09:06:28 -0500 (Fri, 31 Jan 2025) EndedAt: 2025-01-31 09:14:16 -0500 (Fri, 31 Jan 2025) EllapsedTime: 467.5 seconds RetCode: 0 Status: OK PackageFile: msa_1.38.0.zip PackageFileSize: 1.983 MiB