Package: msa Version: 1.38.0 Command: /home/biocbuild/bbs-3.20-bioc/R/bin/R CMD INSTALL msa StartedAt: 2025-01-30 15:10:15 -0500 (Thu, 30 Jan 2025) EndedAt: 2025-01-30 15:14:31 -0500 (Thu, 30 Jan 2025) EllapsedTime: 256.3 seconds RetCode: 0 Status: OK