Package: msa Version: 1.38.0 Command: /Library/Frameworks/R.framework/Resources/bin/R CMD check --install=check:msa.install-out.txt --library=/Library/Frameworks/R.framework/Resources/library --no-vignettes --timings msa_1.38.0.tar.gz StartedAt: 2025-02-01 02:12:23 -0500 (Sat, 01 Feb 2025) EndedAt: 2025-02-01 02:13:59 -0500 (Sat, 01 Feb 2025) EllapsedTime: 96.6 seconds RetCode: 0 Status: WARNINGS CheckDir: msa.Rcheck Warnings: 2