Package: msPurity Version: 1.32.0 Command: /Library/Frameworks/R.framework/Resources/bin/R CMD INSTALL msPurity StartedAt: 2025-01-30 15:31:35 -0500 (Thu, 30 Jan 2025) EndedAt: 2025-01-30 15:32:04 -0500 (Thu, 30 Jan 2025) EllapsedTime: 29.7 seconds RetCode: 0 Status: OK