Package: msPurity Version: 1.32.0 Command: /Library/Frameworks/R.framework/Resources/bin/R CMD check --install=check:msPurity.install-out.txt --library=/Library/Frameworks/R.framework/Resources/library --no-vignettes --timings msPurity_1.32.0.tar.gz StartedAt: 2025-01-24 08:14:06 -0500 (Fri, 24 Jan 2025) EndedAt: 2025-01-24 08:54:07 -0500 (Fri, 24 Jan 2025) EllapsedTime: 2401.1 seconds RetCode: None Status: TIMEOUT CheckDir: msPurity.Rcheck Warnings: NA