Package: msPurity Version: 1.32.0 Command: /Library/Frameworks/R.framework/Resources/bin/R CMD INSTALL msPurity StartedAt: 2025-01-30 15:40:03 -0500 (Thu, 30 Jan 2025) EndedAt: 2025-01-30 15:40:16 -0500 (Thu, 30 Jan 2025) EllapsedTime: 13.5 seconds RetCode: 0 Status: OK