Package: msImpute Version: 1.16.0 Command: /home/biocbuild/bbs-3.20-bioc/R/bin/R CMD build --keep-empty-dirs --no-resave-data --md5 msImpute StartedAt: 2025-01-30 18:13:21 -0500 (Thu, 30 Jan 2025) EndedAt: 2025-01-30 18:14:27 -0500 (Thu, 30 Jan 2025) EllapsedTime: 66.0 seconds RetCode: 0 Status: OK PackageFile: msImpute_1.16.0.tar.gz PackageFileSize: 1.771 MiB