Package: mpra Version: 1.28.0 Command: /Library/Frameworks/R.framework/Resources/bin/R CMD INSTALL mpra StartedAt: 2025-01-30 15:19:00 -0500 (Thu, 30 Jan 2025) EndedAt: 2025-01-30 15:19:54 -0500 (Thu, 30 Jan 2025) EllapsedTime: 53.8 seconds RetCode: 0 Status: OK