Package: motifcounter Version: 1.30.0 Command: /home/biocbuild/R/R/bin/R CMD build --keep-empty-dirs --no-resave-data motifcounter StartedAt: 2025-01-31 01:05:16 -0000 (Fri, 31 Jan 2025) EndedAt: 2025-01-31 01:06:38 -0000 (Fri, 31 Jan 2025) EllapsedTime: 82.0 seconds RetCode: 0 Status: OK PackageFile: motifcounter_1.30.0.tar.gz PackageFileSize: 499.9 KiB