Package: motifcounter Version: 1.30.0 Command: rm -rf motifcounter.buildbin-libdir && mkdir motifcounter.buildbin-libdir && F:\biocbuild\bbs-3.20-bioc\R\bin\R.exe CMD INSTALL --build --library=motifcounter.buildbin-libdir motifcounter_1.30.0.tar.gz StartedAt: 2025-01-31 09:05:46 -0500 (Fri, 31 Jan 2025) EndedAt: 2025-01-31 09:06:32 -0500 (Fri, 31 Jan 2025) EllapsedTime: 45.2 seconds RetCode: 0 Status: OK PackageFile: motifcounter_1.30.0.zip PackageFileSize: 686.7 KiB