Package: motifbreakR Version: 2.20.0 Command: /Library/Frameworks/R.framework/Resources/bin/R CMD check --install=check:motifbreakR.install-out.txt --library=/Library/Frameworks/R.framework/Resources/library --no-vignettes --timings motifbreakR_2.20.0.tar.gz StartedAt: 2025-02-01 02:01:08 -0500 (Sat, 01 Feb 2025) EndedAt: 2025-02-01 02:12:23 -0500 (Sat, 01 Feb 2025) EllapsedTime: 674.7 seconds RetCode: 0 Status: WARNINGS CheckDir: motifbreakR.Rcheck Warnings: 1