Package: mosdef Version: 1.2.0 Command: /home/biocbuild/R/R/bin/R CMD INSTALL mosdef StartedAt: 2025-01-30 20:52:03 -0000 (Thu, 30 Jan 2025) EndedAt: 2025-01-30 20:52:59 -0000 (Thu, 30 Jan 2025) EllapsedTime: 55.5 seconds RetCode: 0 Status: OK