Package: mosdef Version: 1.2.0 Command: /home/biocbuild/R/R/bin/R CMD build --keep-empty-dirs --no-resave-data mosdef StartedAt: 2025-01-31 01:04:41 -0000 (Fri, 31 Jan 2025) EndedAt: 2025-01-31 01:11:14 -0000 (Fri, 31 Jan 2025) EllapsedTime: 393.1 seconds RetCode: 0 Status: OK PackageFile: mosdef_1.2.0.tar.gz PackageFileSize: 3.549 MiB