Package: monocle Version: 2.34.0 Command: rm -rf monocle.buildbin-libdir && mkdir monocle.buildbin-libdir && F:\biocbuild\bbs-3.20-bioc\R\bin\R.exe CMD INSTALL --build --library=monocle.buildbin-libdir monocle_2.34.0.tar.gz StartedAt: 2025-01-31 09:05:21 -0500 (Fri, 31 Jan 2025) EndedAt: 2025-01-31 09:06:18 -0500 (Fri, 31 Jan 2025) EllapsedTime: 57.2 seconds RetCode: 0 Status: OK PackageFile: monocle_2.34.0.zip PackageFileSize: 1.699 MiB