Package: monocle Version: 2.34.0 Command: /home/biocbuild/bbs-3.20-bioc/R/bin/R CMD INSTALL monocle StartedAt: 2025-01-30 15:10:49 -0500 (Thu, 30 Jan 2025) EndedAt: 2025-01-30 15:11:08 -0500 (Thu, 30 Jan 2025) EllapsedTime: 19.5 seconds RetCode: 0 Status: OK