Package: monocle Version: 2.34.0 Command: rm -rf monocle.buildbin-libdir && mkdir monocle.buildbin-libdir && /Users/biocbuild/BBS/utils/build-universal.sh monocle_2.34.0.tar.gz /Library/Frameworks/R.framework/Resources/bin/R monocle.buildbin-libdir StartedAt: 2025-02-01 15:48:47 -0500 (Sat, 01 Feb 2025) EndedAt: 2025-02-01 15:49:15 -0500 (Sat, 01 Feb 2025) EllapsedTime: 27.8 seconds RetCode: 0 Status: OK PackageFile: monocle_2.34.0.tgz PackageFileSize: 1.434 MiB