Package: mnem Version: 1.22.0 Command: /home/biocbuild/R/R/bin/R CMD INSTALL mnem StartedAt: 2025-01-30 20:58:31 -0000 (Thu, 30 Jan 2025) EndedAt: 2025-01-30 20:59:13 -0000 (Thu, 30 Jan 2025) EllapsedTime: 42.5 seconds RetCode: 0 Status: OK