Package: mirTarRnaSeq Version: 1.14.0 Command: F:\biocbuild\bbs-3.20-bioc\R\bin\R.exe CMD INSTALL mirTarRnaSeq StartedAt: 2025-01-30 15:31:33 -0500 (Thu, 30 Jan 2025) EndedAt: 2025-01-30 15:32:35 -0500 (Thu, 30 Jan 2025) EllapsedTime: 62.1 seconds RetCode: 0 Status: OK