Package: mirTarRnaSeq Version: 1.14.0 Command: F:\biocbuild\bbs-3.20-bioc\R\bin\R.exe CMD check --no-multiarch --install=check:mirTarRnaSeq.install-out.txt --library=F:\biocbuild\bbs-3.20-bioc\R\library --no-vignettes --timings mirTarRnaSeq_1.14.0.tar.gz StartedAt: 2025-01-31 04:00:31 -0500 (Fri, 31 Jan 2025) EndedAt: 2025-01-31 04:01:48 -0500 (Fri, 31 Jan 2025) EllapsedTime: 77.1 seconds RetCode: 0 Status: OK CheckDir: mirTarRnaSeq.Rcheck Warnings: 0