Package: mirTarRnaSeq Version: 1.14.0 Command: /home/biocbuild/bbs-3.20-bioc/R/bin/R CMD build --keep-empty-dirs --no-resave-data --md5 mirTarRnaSeq StartedAt: 2025-01-30 18:05:59 -0500 (Thu, 30 Jan 2025) EndedAt: 2025-01-30 18:08:51 -0500 (Thu, 30 Jan 2025) EllapsedTime: 172.1 seconds RetCode: 0 Status: OK PackageFile: mirTarRnaSeq_1.14.0.tar.gz PackageFileSize: 3.431 MiB