Package: mirIntegrator Version: 1.36.0 Command: /home/biocbuild/R/R/bin/R CMD INSTALL mirIntegrator StartedAt: 2024-11-19 20:41:55 -0000 (Tue, 19 Nov 2024) EndedAt: 2024-11-19 20:42:19 -0000 (Tue, 19 Nov 2024) EllapsedTime: 23.5 seconds RetCode: 0 Status: OK