Package: mina Version: 1.14.0 Command: /home/biocbuild/R/R/bin/R CMD build --keep-empty-dirs --no-resave-data mina StartedAt: 2024-11-20 02:07:29 -0000 (Wed, 20 Nov 2024) EndedAt: 2024-11-20 02:09:09 -0000 (Wed, 20 Nov 2024) EllapsedTime: 100.1 seconds RetCode: 0 Status: OK PackageFile: mina_1.14.0.tar.gz PackageFileSize: 4.019 MiB