Package: miloR Version: 2.2.0 Command: /home/biocbuild/R/R/bin/R CMD INSTALL miloR StartedAt: 2025-01-30 20:59:47 -0000 (Thu, 30 Jan 2025) EndedAt: 2025-01-30 21:03:01 -0000 (Thu, 30 Jan 2025) EllapsedTime: 193.3 seconds RetCode: 0 Status: OK