Package: miloR Version: 2.2.0 Command: chmod a+r miloR -R && F:\biocbuild\bbs-3.20-bioc\R\bin\R.exe CMD build --keep-empty-dirs --no-resave-data miloR StartedAt: 2025-01-30 20:07:59 -0500 (Thu, 30 Jan 2025) EndedAt: 2025-01-30 20:36:13 -0500 (Thu, 30 Jan 2025) EllapsedTime: 1694.1 seconds RetCode: 0 Status: OK PackageFile: miloR_2.2.0.tar.gz PackageFileSize: 6.091 MiB