Package: microbiomeMarker Version: 1.12.0 Command: F:\biocbuild\bbs-3.20-bioc\R\bin\R.exe CMD INSTALL microbiomeMarker StartedAt: 2025-01-30 16:41:22 -0500 (Thu, 30 Jan 2025) EndedAt: 2025-01-30 16:43:59 -0500 (Thu, 30 Jan 2025) EllapsedTime: 156.3 seconds RetCode: 0 Status: OK