Package: microbiomeMarker Version: 1.12.0 Command: chmod a+r microbiomeMarker -R && F:\biocbuild\bbs-3.20-bioc\R\bin\R.exe CMD build --keep-empty-dirs --no-resave-data microbiomeMarker StartedAt: 2025-01-30 20:06:56 -0500 (Thu, 30 Jan 2025) EndedAt: 2025-01-30 20:09:28 -0500 (Thu, 30 Jan 2025) EllapsedTime: 152.7 seconds RetCode: 1 Status: ERROR PackageFile: None PackageFileSize: NA