Package: microbiomeMarker Version: 1.12.0 Command: /home/biocbuild/R/R/bin/R CMD INSTALL microbiomeMarker StartedAt: 2024-11-19 21:19:54 -0000 (Tue, 19 Nov 2024) EndedAt: 2024-11-19 21:21:05 -0000 (Tue, 19 Nov 2024) EllapsedTime: 71.1 seconds RetCode: 0 Status: OK