Package: microbiomeMarker Version: 1.12.0 Command: /Library/Frameworks/R.framework/Resources/bin/R CMD INSTALL microbiomeMarker StartedAt: 2025-01-30 17:41:37 -0500 (Thu, 30 Jan 2025) EndedAt: 2025-01-30 17:42:33 -0500 (Thu, 30 Jan 2025) EllapsedTime: 56.7 seconds RetCode: 0 Status: OK