Package: microbiomeExplorer Version: 1.16.0 Command: /home/biocbuild/R/R/bin/R CMD INSTALL microbiomeExplorer StartedAt: 2025-01-30 20:59:00 -0000 (Thu, 30 Jan 2025) EndedAt: 2025-01-30 20:59:16 -0000 (Thu, 30 Jan 2025) EllapsedTime: 15.8 seconds RetCode: 0 Status: OK